BEGIN:VCALENDAR
VERSION:2.0
PRODID:-//eventon.com NONSGML v1.0//EN
CALSCALE:GREGORIAN
METHOD:PUBLISH
BEGIN:VEVENT
UID:69ecbd6574e42
DTSTAMP:20260425T131101Z
DTSTART:20260611
DTEND:20260612
LOCATION:Diamond Mills
SUMMARY:2026 Hudson Regional Direct Care Conference
DESCRIPTION:SAVE THE DATE for the 2026 Hudson Region Direct Care ACLAIMH Co
 nference June 11 at Diamond Mills Hotel in Saugerties More information will
  be available soon!\nhttps://aclnys.org/event-details/2026-hudson-regional-
 direct-care-conference/
URL:https://aclnys.org/event-details/2026-hudson-regional-direct-care-conference/
END:VEVENT
END:VCALENDAR